



BEGIN:VCALENDAR
VERSION:2.0
PRODID:-//Kaunas Jazz - ECPv5.3.2.1//NONSGML v1.0//EN
CALSCALE:GREGORIAN
METHOD:PUBLISH
X-WR-CALNAME:Kaunas Jazz
X-ORIGINAL-URL:https://kaunasjazz.lt
X-WR-CALDESC:Events for Kaunas Jazz
BEGIN:VTIMEZONE
TZID:Europe/Vilnius
BEGIN:DAYLIGHT
TZOFFSETFROM:+0200
TZOFFSETTO:+0300
TZNAME:EEST
DTSTART:20260329T010000
END:DAYLIGHT
BEGIN:STANDARD
TZOFFSETFROM:+0300
TZOFFSETTO:+0200
TZNAME:EET
DTSTART:20261025T010000
END:STANDARD
END:VTIMEZONE
BEGIN:VEVENT
DTSTART;TZID=Europe/Vilnius:20261214T190000
DTEND;TZID=Europe/Vilnius:20261214T190000
DTSTAMP:20260419T160240
CREATED:20260301T172407Z
LAST-MODIFIED:20260302T190043Z
UID:6711-1797274800-1797274800@kaunasjazz.lt
SUMMARY:Candy Dulfer (Olandija)
DESCRIPTION:Žymioji saksofonininkė Candy Dulfer pirmą kartą koncertuos „Žalgirio“ arenoje \nPasitikdamas pavasarį\, festivalis „Kaunas Jazz“ jau kviečia dėlioti planus žiemai. Šiandien skelbiama\, kad festivalio kvietimu gruodžio 14-ąją Kauno „Žalgirio“ arenoje koncertą surengs visame pasaulyje garsi saksofonininkė Candy Dulfer su savo grupe. \nNe vieną dešimtmetį garsi muzikos žvaigždė yra viešėjusi Lietuvoje\, tačiau tai bus pirmasis jos koncertas Kaune. Į mūsų šalį Candy Dulfer sugrįš po beveik dešimties metų pertraukos. \n„Candy Dulfer jau seniai buvo mūsų trokštamų festivalio žvaigždžių sąraše. Džiaugiamės\, kad ji spindės mūsų programoje\, simboliškai metų pabaigoje vainikuodama 36-ąjį „Kaunas Jazz“ sezoną. Koncertas bus galingas – į Lietuvą Candy atvyksta su net dešimties muzikantų grupe“\, – skelbia didžiausio Lietuvoje džiazo festivalio rengėjai. \nBilietus į Candy Dulfer koncertą\, kaip ir į kitus „Kaunas Jazz“ renginius\, platina BILIETAI.LT. \nMuzikantė\, kuriai džiazo ir fanko pasaulyje populiarumu negali prilygti jokia kita saksofonininkė. Taip dažnai muzikos enciklopedijose ir žurnalų straipsniuose pristatoma visoje planetoje dar 1989-aisiais išgarsėjusi olandų žvaigždė. \nMuzikalioje šeimoje (jos tėvas – saksofonininkas Hansas Dulferis) gimusi Candy Dulfer groja nuo mažens\, būdama dvylikos jau koncertavo legendiniame „North Sea“ džiazo festivalyje\, o būdama keturiolikos subūrė savo grupę. \nPirmąjį didelį karjeros proveržį patyrė būdama vos 18-os\, kai apšildyti savo Europos gastrolių koncertus ją pakvietė popmuzikos karalienė Madonna\, o po metų jos talentas sužavėjo ir dainininką Prince’ą\, pakvietusį Candy groti kartu ir pasirodyti jo vaizdo klipe. \nBeje\, ši muzikinė draugystė tęsėsi ne vieną dešimtmetį – pavyzdžiui\, 2004-aisiais Candy koncertavo Prince’o gastrolėse kaip jo muzikinės grupės narė. „Kai man reikia saksofono\, aš skambinu Candy“\, – yra sakęs šis legendinis atlikėjas\, rinkęsis tik geriausius muzikinius partnerius. \n1989-aisiais Candy Dulfer išleido kūrinį\, tapusį sensacija visoje planetoje. Kartu su dueto „Eurythmics“ nariu Davidu A. Stewartu įrašyta melodija „Lily Was Here“ skambėjo kaip romantiškas gitaros ir saksofono šokis. Olandų kino filmo garso takeliui įrašytas kūrinys pakilo į populiariausiųjų dvidešimtukus Europoje\, Australijoje\, Jungtinėse Amerikos Valstijose ir iki šiol dažnai skamba radijo eteryje. \nPasakojama\, kad kūrinys gimė kaip improvizacija įrašų sesijos pabaigoje ir iš pradžių net nebuvo planuojamas kaip filmo dalis – muzikantės tėvo teigimu\, jis įrašytas pirmu bandymu\, be jokių pakartojimų. \nDavidas A. Stewartas ir Candy Dulfer – „Lily Was Here“:\n[vc_video link=”https://youtu.be/ypbjIwbTR8c” el_width=”100″ align=”center”]\nKūrinio tarptautinė sėkmė paskatino Candy Dulfer įrašyti pirmąjį albumą\, žaismingai pavadintą „Saxuality“. Virtuoziškas grojimas\, charizma ir sceninis žavesys kone akimirksniu šią muzikantę pavertė didele žvaigžde – 21-erių saksofonininkės albumas pateko į topus JAV\, buvo parduotas daugiau nei milijono egzempliorių tiražu ir nominuotas prestižiniam „Grammy“ apdovanojimui geriausio šiuolaikinio džiazo albumo kategorijoje. \nTais pačiais metais Candy Dulfer koncertavo su legendine britų roko grupe „Pink Floyd“\, o jos muzikinių bendražygių sąrašą galima tęsti ilgai. Tarp muzikantų\, su kuriais ši saksofonininkė koncertavo arba įrašė muziką studijoje\, yra Lionelis Richie\, Vanas Morrisonas\, grupė „Tower Of Power“\, Sheila E.\, Maceo Parkeris ir daugybė kitų. \nCandy Dulfer – „Sax-A-Go-Go“:\n[vc_video link=”https://youtu.be/v0DhlvOTJx8″ el_width=”100″ align=”center”]\nGimtuosiuose Nyderlanduose Candy Dulfer yra ir televizijos žvaigždė\, vedusi savo pokalbių su muzikantais laidą bei priėmusi kvietimą tapti teisėja TV šou „X Faktorius“. \nJos karjera sėkmingai tęsiasi iki šiol – muzikantės diskografijoje yra jau dvylika albumų\, kuriuose susipina džiazas\, fankas\, ritmenbliuzas ir ekspresyvios\, akimirksniu įsimenančios melodijos. \nCandy Dulfer įrašai parduoti daugiau nei 2\,5 milijono egzempliorių tiražu\, o pasirodymai visada pasižymi energija ir užsidegimu – kiekvienas šios muzikantės pasirodymas virsta tikra gerų emocijų švente. \nCandy Dulfer – „Don‘t Go“:\n[vc_video link=”https://youtu.be/j_5ccXi2RCs” el_width=”100″ align=”center”]\nIki šiol naujausias muzikantės albumas „We Never Stop“ pasirodė 2022-aisiais ir dar sykį įrodė jos „svorį“ muzikos pasaulyje – vienas albumo kūrinių įrašytas su „disco“ ir fanko muzikos legenda\, grupės „Chic“ lyderiu\, Nile‘u Rodgersu. \nCandy Dulfer koncertas su trenksmu užbaigs žvaigždžių kupinus „Kaunas Jazz“ festivalio metus. Didžioji dalis festivalio koncertų vyks balandį. Pasirodymus Kaune surengs JAV dainininkės Lady Blackbird ir Judith Hill – į abu šiuos koncertus bilietai jau išgraibstyti\, tačiau Judith Hill publikos pageidavimu surengs papildomą pasirodymą Vilniuje. \nKauno publikai taip pat su savo grupėmis koncertuos Lietuvos džiazo meistrai Dainius Pulauskas ir Leonidas Šinkarenko\, kylanti Belgijos džiazo žvaigždė Adja\, o legendinio Jameso Browno bendražygė Martha High surengs turą per keturis Lietuvos miestus. \nDaugiau festivalio programos dalyvių bus atskleista artimiausiu metu. Visas festivalio naujienas galite sekti interneto svetainėje www.kaunasjazz.lt
URL:https://kaunasjazz.lt/renginys/candy-dulfer/
LOCATION:Žalgirio arena\, Karaliaus Mindaugo pr. 50\, Kaunas
CATEGORIES:Frontpage
ATTACH;FMTTYPE=image/jpeg:https://kaunasjazz.lt/wp-content/uploads/2026/03/Candy_Dulfer.jpg
END:VEVENT
END:VCALENDAR